BEGIN:VCALENDAR
VERSION:2.0
PRODID:icalendar-ruby
CALSCALE:GREGORIAN
METHOD:PUBLISH
BEGIN:VEVENT
DTSTAMP:20260423T185017Z
UID:93-995904@liveoakfamily.church
DTSTART:20260813T000000Z
DTEND:20260813T010000Z
CLASS:PUBLIC
CREATED:20260423T122159
DESCRIPTION:Tower Life Group
LAST-MODIFIED:20260423T122159
LOCATION:Lakeside Towers
SUMMARY:Tower Life Group
URL;VALUE=URI:https://www.liveoakfamily.church/events/tower-life-group/2026
 -08-12
ATTACH;FILENAME=Tower Life Group (1).png;FMTTYPE=image/png:https://dq5pwpg1
 q8ru0.cloudfront.net/2024/01/23/15/59/30/47702cbd-276e-4718-bf95-097cfc5e8
 b1f/Tower%20Life%20Group%20(1).png
END:VEVENT
END:VCALENDAR
